BEGIN:VCALENDAR
VERSION:2.0
PRODID:-//The Pastoral Hotel Motel - ECPv4.9.10//NONSGML v1.0//EN
CALSCALE:GREGORIAN
METHOD:PUBLISH
X-WR-CALNAME:The Pastoral Hotel Motel
X-ORIGINAL-URL:https://pastoralhotelmotel.com.au
X-WR-CALDESC:Events for The Pastoral Hotel Motel
BEGIN:VTIMEZONE
TZID:Australia/Adelaide
BEGIN:STANDARD
TZOFFSETFROM:+1030
TZOFFSETTO:+0930
TZNAME:ACST
DTSTART:20200404T163000
END:STANDARD
BEGIN:DAYLIGHT
TZOFFSETFROM:+0930
TZOFFSETTO:+1030
TZNAME:ACDT
DTSTART:20201003T163000
END:DAYLIGHT
END:VTIMEZONE
BEGIN:VEVENT
DTSTART;TZID=Australia/Adelaide:20200116T180000
DTEND;TZID=Australia/Adelaide:20200116T203000
DTSTAMP:20200229T124828
CREATED:20190930T003559Z
LAST-MODIFIED:20190930T003559Z
UID:1133-1579197600-1579206600@pastoralhotelmotel.com.au
SUMMARY:Pint & Parmy Night
DESCRIPTION:Beef or chicken parmy served with chips and salad or veg. Paired with a pint of your choice of drink for just $19.90! \n
URL:https://pastoralhotelmotel.com.au/event/pint-parmy-night/2020-01-16/
LOCATION:Pastoral Hotel Motel\, 17 Stirling Road\, Port Augusta\, South Australia\, 5700\, Australia
END:VEVENT
END:VCALENDAR