BEGIN:VCALENDAR
VERSION:2.0
PRODID:-//The Pastoral Hotel Motel - ECPv4.9.10//NONSGML v1.0//EN
CALSCALE:GREGORIAN
METHOD:PUBLISH
X-WR-CALNAME:The Pastoral Hotel Motel
X-ORIGINAL-URL:https://pastoralhotelmotel.com.au
X-WR-CALDESC:Events for The Pastoral Hotel Motel
BEGIN:VTIMEZONE
TZID:Australia/Adelaide
BEGIN:STANDARD
TZOFFSETFROM:+1030
TZOFFSETTO:+0930
TZNAME:ACST
DTSTART:20200404T163000
END:STANDARD
BEGIN:DAYLIGHT
TZOFFSETFROM:+0930
TZOFFSETTO:+1030
TZNAME:ACDT
DTSTART:20201003T163000
END:DAYLIGHT
END:VTIMEZONE
BEGIN:VEVENT
DTSTART;TZID=Australia/Adelaide:20200401T180000
DTEND;TZID=Australia/Adelaide:20200401T203000
DTSTAMP:20200229T130709
CREATED:20190930T004053Z
LAST-MODIFIED:20190930T004053Z
UID:1178-1585764000-1585773000@pastoralhotelmotel.com.au
SUMMARY:Seafood Basket Night
DESCRIPTION:Delicious seafood baskets are the special meal of Wednesday nights! For just $19.90\, contact us today to book your table! \n
URL:https://pastoralhotelmotel.com.au/event/seafood-basket-night/2020-04-01/
LOCATION:Pastoral Hotel Motel\, 17 Stirling Road\, Port Augusta\, South Australia\, 5700\, Australia
END:VEVENT
END:VCALENDAR